BEGIN:VCALENDAR
VERSION:2.0
PRODID:-//Padel Savez Srbije - ECPv6.5.0//NONSGML v1.0//EN
CALSCALE:GREGORIAN
METHOD:PUBLISH
X-WR-CALNAME:Padel Savez Srbije
X-ORIGINAL-URL:https://padelsavezsrbije.rs
X-WR-CALDESC:Događaji u Padel Savez Srbije
REFRESH-INTERVAL;VALUE=DURATION:PT1H
X-Robots-Tag:noindex
X-PUBLISHED-TTL:PT1H
BEGIN:VTIMEZONE
TZID:Europe/Belgrade
BEGIN:DAYLIGHT
TZOFFSETFROM:+0100
TZOFFSETTO:+0200
TZNAME:CEST
DTSTART:20250330T010000
END:DAYLIGHT
BEGIN:STANDARD
TZOFFSETFROM:+0200
TZOFFSETTO:+0100
TZNAME:CET
DTSTART:20251026T010000
END:STANDARD
END:VTIMEZONE
BEGIN:VEVENT
DTSTART;VALUE=DATE:20250815
DTEND;VALUE=DATE:20250818
DTSTAMP:20260422T193414
CREATED:20250720T194536Z
LAST-MODIFIED:20250720T194536Z
UID:898-1755216000-1755475199@padelsavezsrbije.rs
SUMMARY:Serbian Padel Federation - Russian Padel Federation matches
DESCRIPTION:
URL:https://padelsavezsrbije.rs/dogadjaj/serbian-padel-federation-russian-padel-federation-matches/
ATTACH;FMTTYPE=image/webp:https://padelsavezsrbije.rs/wp-content/uploads/2024/05/blog-2.webp
END:VEVENT
END:VCALENDAR